BEGIN:VCALENDAR
VERSION:2.0
PRODID:-//The Greater New Orleans Louis A. Martinet Legal Society, Inc. - ECPv6.15.20//NONSGML v1.0//EN
CALSCALE:GREGORIAN
METHOD:PUBLISH
X-WR-CALNAME:The Greater New Orleans Louis A. Martinet Legal Society, Inc.
X-ORIGINAL-URL:https://gnomartinet.com
X-WR-CALDESC:Events for The Greater New Orleans Louis A. Martinet Legal Society, Inc.
REFRESH-INTERVAL;VALUE=DURATION:PT1H
X-Robots-Tag:noindex
X-PUBLISHED-TTL:PT1H
BEGIN:VTIMEZONE
TZID:America/New_York
BEGIN:DAYLIGHT
TZOFFSETFROM:-0500
TZOFFSETTO:-0400
TZNAME:EDT
DTSTART:20190310T070000
END:DAYLIGHT
BEGIN:STANDARD
TZOFFSETFROM:-0400
TZOFFSETTO:-0500
TZNAME:EST
DTSTART:20191103T060000
END:STANDARD
BEGIN:DAYLIGHT
TZOFFSETFROM:-0500
TZOFFSETTO:-0400
TZNAME:EDT
DTSTART:20200308T070000
END:DAYLIGHT
BEGIN:STANDARD
TZOFFSETFROM:-0400
TZOFFSETTO:-0500
TZNAME:EST
DTSTART:20201101T060000
END:STANDARD
BEGIN:DAYLIGHT
TZOFFSETFROM:-0500
TZOFFSETTO:-0400
TZNAME:EDT
DTSTART:20210314T070000
END:DAYLIGHT
BEGIN:STANDARD
TZOFFSETFROM:-0400
TZOFFSETTO:-0500
TZNAME:EST
DTSTART:20211107T060000
END:STANDARD
BEGIN:DAYLIGHT
TZOFFSETFROM:-0500
TZOFFSETTO:-0400
TZNAME:EDT
DTSTART:20220313T070000
END:DAYLIGHT
BEGIN:STANDARD
TZOFFSETFROM:-0400
TZOFFSETTO:-0500
TZNAME:EST
DTSTART:20221106T060000
END:STANDARD
END:VTIMEZONE
BEGIN:VEVENT
DTSTART;TZID=America/New_York:20211028T140000
DTEND;TZID=America/New_York:20211028T145000
DTSTAMP:20260423T162057
CREATED:20211013T031521Z
LAST-MODIFIED:20211013T031521Z
UID:6227-1635429600-1635432600@gnomartinet.com
SUMMARY:1st Grade Halloween Reading
DESCRIPTION:Virtual Volunteer 1st Grade Class Halloween Reading\nSchool: Arthur Ashe Charter School\, 1st Grade Class\nEvent Date and Time: October 28\, 2021\, at 2:00-2:50 p.m.\nPlease feel free to contact GNO Martinet Community Service Co-Chairs\, Arisa Forest and Tori Howze if you have any questions. \n\n\n\n  \n\n\n\nSelect Recipient\n \nCLE CommitteeCommunity Service CommitteeGala CommitteeJudicial CommitteeMembership CommitteePolitical Action CommitteePast Presidents & Seasoned LawyersSocial CommitteeYoung Lawyers Committee\n \nYour Email (required)\n \n\n \nSubject\n \n\n \nYour Message\n \n\n \n[recaptcha]\n \n\n \n\n\n\n\nRegister here
URL:https://gnomartinet.com/calendar/1st-grade-halloween-reading/
CATEGORIES:Community Service
END:VEVENT
BEGIN:VEVENT
DTSTART;VALUE=DATE:20210918
DTEND;VALUE=DATE:20210919
DTSTAMP:20260423T162057
CREATED:20210623T022128Z
LAST-MODIFIED:20210624T031609Z
UID:6140-1631923200-1632009599@gnomartinet.com
SUMMARY:Gala 2021
DESCRIPTION:Marc H. Morial\,2021 Gala Keynote Speaker
URL:https://gnomartinet.com/calendar/gala-2021/
LOCATION:Hyatt Regency New Orleans\, 601 Loyola Avenue\, New Orleans\, LA\, 70113\, United States
CATEGORIES:Scholarship Fundraisers
END:VEVENT
BEGIN:VEVENT
DTSTART;TZID=America/New_York:20210811T173000
DTEND;TZID=America/New_York:20210811T193000
DTSTAMP:20260423T162057
CREATED:20210727T013149Z
LAST-MODIFIED:20210727T013410Z
UID:6176-1628703000-1628710200@gnomartinet.com
SUMMARY:Raising the Bar Presents - Bragging Rights: Acing Your Self-Evaluation
DESCRIPTION:REGISTER HERE
URL:https://gnomartinet.com/calendar/raising-the-bar-presents-bragging-rights-acing-your-self-evaluation/
CATEGORIES:Continuing Legal Education
ATTACH;FMTTYPE=image/jpeg:https://gnomartinet.com/file/2021/07/Updated-Bragging-Rights-Flyer.jpg
END:VEVENT
BEGIN:VEVENT
DTSTART;TZID=America/New_York:20210211T173000
DTEND;TZID=America/New_York:20210211T190000
DTSTAMP:20260423T162057
CREATED:20210129T055807Z
LAST-MODIFIED:20210129T055933Z
UID:6111-1613064600-1613070000@gnomartinet.com
SUMMARY:Raising the Bar Initiative
DESCRIPTION:Register Here
URL:https://gnomartinet.com/calendar/raising-the-bar-initiative/
CATEGORIES:GNO Martinet Members
END:VEVENT
BEGIN:VEVENT
DTSTART;TZID=America/New_York:20200718T120000
DTEND;TZID=America/New_York:20200718T140000
DTSTAMP:20260423T162057
CREATED:20200628T083253Z
LAST-MODIFIED:20200628T083253Z
UID:6015-1595073600-1595080800@gnomartinet.com
SUMMARY:Bike Around NOLA
DESCRIPTION:We will meet up at City Park at noon and take the Lafitte Greenway bike route into the city and return to City Park. If you are interested in participating\, please sign up here.
URL:https://gnomartinet.com/calendar/bike-around-nola/
CATEGORIES:GNO Martinet Members
END:VEVENT
BEGIN:VEVENT
DTSTART;TZID=America/New_York:20200717T120000
DTEND;TZID=America/New_York:20200717T150000
DTSTAMP:20260423T162057
CREATED:20200628T082912Z
LAST-MODIFIED:20200701T151324Z
UID:6013-1594987200-1594998000@gnomartinet.com
SUMMARY:Martinet’s Mid-Year CLE
DESCRIPTION:Martinet’s Mid-Year CLE
URL:https://gnomartinet.com/calendar/martinets-mid-year-cle/
CATEGORIES:Continuing Legal Education
END:VEVENT
BEGIN:VEVENT
DTSTART;TZID=America/New_York:20200710T120000
DTEND;TZID=America/New_York:20200710T150000
DTSTAMP:20260423T162057
CREATED:20200628T083011Z
LAST-MODIFIED:20200701T151334Z
UID:6014-1594382400-1594393200@gnomartinet.com
SUMMARY:Mid-Year CLE
DESCRIPTION:Mid-Year CLE
URL:https://gnomartinet.com/calendar/mid-year-cle/
CATEGORIES:Continuing Legal Education
END:VEVENT
BEGIN:VEVENT
DTSTART;TZID=America/New_York:20200704T070000
DTEND;TZID=America/New_York:20200705T190000
DTSTAMP:20260423T162057
CREATED:20200628T082503Z
LAST-MODIFIED:20200628T082503Z
UID:6012-1593846000-1593975600@gnomartinet.com
SUMMARY:Election Reminder Cards
DESCRIPTION:The Greater New Orleans Louis A. Martinet Legal Society will distribute election reminder cards to remind residents about the July 11th election.  Please click here to volunteer.
URL:https://gnomartinet.com/calendar/election-reminder-cards/
CATEGORIES:GNO Martinet Members
END:VEVENT
BEGIN:VEVENT
DTSTART;TZID=America/New_York:20200702T190000
DTEND;TZID=America/New_York:20200702T200000
DTSTAMP:20260423T162057
CREATED:20200628T082243Z
LAST-MODIFIED:20200628T082622Z
UID:6011-1593716400-1593720000@gnomartinet.com
SUMMARY:Virtual Judicial Candidates Forum
DESCRIPTION:The Greater New Orleans Louis A. Martinet Legal Society\, the League of Women Voters of New Orleans\, Engaging New Voices and Voters\, and the Urban League of Louisiana Young Professionals will host a virtual Judicial Candidates Forum for the candidates running for First City Court Judge\, Section B.  Click here to register.
URL:https://gnomartinet.com/calendar/virtual-judicial-candidates-forum/
CATEGORIES:GNO Martinet Members
ATTACH;FMTTYPE=image/jpeg:https://gnomartinet.com/file/2020/06/sdfghjk.jpg
END:VEVENT
BEGIN:VEVENT
DTSTART;TZID=America/New_York:20200528T120000
DTEND;TZID=America/New_York:20200528T130000
DTSTAMP:20260423T162057
CREATED:20200119T023131Z
LAST-MODIFIED:20200119T023131Z
UID:5863-1590667200-1590670800@gnomartinet.com
SUMMARY:Gala Committee Meeting
DESCRIPTION:The conference call number is 319-527-9156 access code 580673
URL:https://gnomartinet.com/calendar/gala-committee-meeting-14/
CATEGORIES:GNO Martinet Members
END:VEVENT
BEGIN:VEVENT
DTSTART;TZID=America/New_York:20200526T170000
DTEND;TZID=America/New_York:20200526T180000
DTSTAMP:20260423T162057
CREATED:20200119T014521Z
LAST-MODIFIED:20200119T014537Z
UID:5844-1590512400-1590516000@gnomartinet.com
SUMMARY:Membership Committee Meeting
DESCRIPTION:
URL:https://gnomartinet.com/calendar/membership-committee-meeting-7/
CATEGORIES:GNO Martinet Members
END:VEVENT
BEGIN:VEVENT
DTSTART;TZID=America/New_York:20200521T170000
DTEND;TZID=America/New_York:20200521T180000
DTSTAMP:20260423T162057
CREATED:20200119T022320Z
LAST-MODIFIED:20200119T022320Z
UID:5859-1590080400-1590084000@gnomartinet.com
SUMMARY:Political Action Committee Meeting
DESCRIPTION:Call-in information:\nToll Free number: 319-527-9156\nConference room number: 580673
URL:https://gnomartinet.com/calendar/political-action-committee-meeting-19/
CATEGORIES:GNO Martinet Members
END:VEVENT
BEGIN:VEVENT
DTSTART;TZID=America/New_York:20200519T170000
DTEND;TZID=America/New_York:20200519T180000
DTSTAMP:20260423T162057
CREATED:20200119T013059Z
LAST-MODIFIED:20200119T013059Z
UID:5835-1589907600-1589911200@gnomartinet.com
SUMMARY:Young Lawyers Committee Meeting
DESCRIPTION:Call-in information:\nJoin us by dialing: (319) 527-9156\nAccess code: 580673
URL:https://gnomartinet.com/calendar/young-lawyers-committee-meeting-25/
CATEGORIES:GNO Martinet Members
END:VEVENT
BEGIN:VEVENT
DTSTART;TZID=America/New_York:20200513T120000
DTEND;TZID=America/New_York:20200513T130000
DTSTAMP:20260423T162057
CREATED:20200119T021834Z
LAST-MODIFIED:20200119T021834Z
UID:5856-1589371200-1589374800@gnomartinet.com
SUMMARY:Community Service Committee Meeting
DESCRIPTION:Call-in information:\nToll Free number: 319-527-9156\nConference room number: 580673
URL:https://gnomartinet.com/calendar/community-service-committee-meeting-8/
CATEGORIES:GNO Martinet Members
END:VEVENT
BEGIN:VEVENT
DTSTART;TZID=America/New_York:20200512T120000
DTEND;TZID=America/New_York:20200512T130000
DTSTAMP:20260423T162057
CREATED:20200119T021357Z
LAST-MODIFIED:20200119T021357Z
UID:5853-1589284800-1589288400@gnomartinet.com
SUMMARY:General Body Meeting
DESCRIPTION:General Body Meeting  \n2nd Tuesday of the Month\, 12pm \nHancock Whitney Bank\n701 Poydras Street\, 30th Floor\nNew Orleans\, LA 70139 \nYou may also join us by dialing: (319) 527-9156\, Access code: 580673
URL:https://gnomartinet.com/calendar/general-body-meeting-15/
CATEGORIES:GNO Martinet Members
END:VEVENT
BEGIN:VEVENT
DTSTART;TZID=America/New_York:20200506T170000
DTEND;TZID=America/New_York:20200506T180000
DTSTAMP:20260423T162057
CREATED:20200119T015127Z
LAST-MODIFIED:20200119T015127Z
UID:5848-1588784400-1588788000@gnomartinet.com
SUMMARY:CLE Committee Meeting
DESCRIPTION:Join us by dialing: (319) 527-9156\nAccess code: 580673
URL:https://gnomartinet.com/calendar/cle-committee-meeting-10/
CATEGORIES:Continuing Legal Education
END:VEVENT
BEGIN:VEVENT
DTSTART;TZID=America/New_York:20200428T170000
DTEND;TZID=America/New_York:20200428T180000
DTSTAMP:20260423T162057
CREATED:20200119T014431Z
LAST-MODIFIED:20200119T014431Z
UID:5843-1588093200-1588096800@gnomartinet.com
SUMMARY:Membership Committee Meeting
DESCRIPTION:
URL:https://gnomartinet.com/calendar/membership-committee-meeting-6/
CATEGORIES:GNO Martinet Members
END:VEVENT
BEGIN:VEVENT
DTSTART;TZID=America/New_York:20200423T120000
DTEND;TZID=America/New_York:20200423T130000
DTSTAMP:20260423T162057
CREATED:20200119T022919Z
LAST-MODIFIED:20200119T022919Z
UID:5862-1587643200-1587646800@gnomartinet.com
SUMMARY:Gala Committee Meeting
DESCRIPTION:The conference call number is 319-527-9156 access code 580673
URL:https://gnomartinet.com/calendar/gala-committee-meeting-13/
CATEGORIES:GNO Martinet Members
END:VEVENT
BEGIN:VEVENT
DTSTART;TZID=America/New_York:20200421T170000
DTEND;TZID=America/New_York:20200421T180000
DTSTAMP:20260423T162057
CREATED:20200119T012941Z
LAST-MODIFIED:20200119T012941Z
UID:5834-1587488400-1587492000@gnomartinet.com
SUMMARY:Young Lawyers Committee Meeting
DESCRIPTION:Call-in information:\nJoin us by dialing: (319) 527-9156\nAccess code: 580673
URL:https://gnomartinet.com/calendar/young-lawyers-committee-meeting-24/
END:VEVENT
BEGIN:VEVENT
DTSTART;TZID=America/New_York:20200414T120000
DTEND;TZID=America/New_York:20200414T130000
DTSTAMP:20260423T162057
CREATED:20200119T021246Z
LAST-MODIFIED:20200119T021246Z
UID:5852-1586865600-1586869200@gnomartinet.com
SUMMARY:General Body Meeting
DESCRIPTION:General Body Meeting  \n2nd Tuesday of the Month\, 12pm \nHancock Whitney Bank\n701 Poydras Street\, 30th Floor\nNew Orleans\, LA 70139 \nYou may also join us by dialing: (319) 527-9156\, Access code: 580673
URL:https://gnomartinet.com/calendar/general-body-meeting-14/
CATEGORIES:GNO Martinet Members
END:VEVENT
BEGIN:VEVENT
DTSTART;TZID=America/New_York:20200408T120000
DTEND;TZID=America/New_York:20200408T130000
DTSTAMP:20260423T162057
CREATED:20200119T023554Z
LAST-MODIFIED:20200119T023554Z
UID:5865-1586347200-1586350800@gnomartinet.com
SUMMARY:Community Service Committee Meeting
DESCRIPTION:Call-in information:\nToll Free number: 319-527-9156\nConference room number: 580673
URL:https://gnomartinet.com/calendar/community-service-committee-meeting-9/
CATEGORIES:GNO Martinet Members
END:VEVENT
BEGIN:VEVENT
DTSTART;TZID=America/New_York:20200403T080000
DTEND;TZID=America/New_York:20200403T170000
DTSTAMP:20260423T162057
CREATED:20200119T023338Z
LAST-MODIFIED:20200119T023353Z
UID:5864-1585900800-1585933200@gnomartinet.com
SUMMARY:Martinet Mid-Year CLE
DESCRIPTION:
URL:https://gnomartinet.com/calendar/martinet-mid-year-cle/
CATEGORIES:Continuing Legal Education
END:VEVENT
BEGIN:VEVENT
DTSTART;TZID=America/New_York:20200401T170000
DTEND;TZID=America/New_York:20200401T180000
DTSTAMP:20260423T162057
CREATED:20200119T014956Z
LAST-MODIFIED:20200119T014956Z
UID:5847-1585760400-1585764000@gnomartinet.com
SUMMARY:CLE Committee Meeting
DESCRIPTION:Join us by dialing: (319) 527-9156\nAccess code: 580673
URL:https://gnomartinet.com/calendar/cle-committee-meeting-9/
CATEGORIES:Continuing Legal Education
END:VEVENT
BEGIN:VEVENT
DTSTART;TZID=America/New_York:20200326T120000
DTEND;TZID=America/New_York:20200326T130000
DTSTAMP:20260423T162057
CREATED:20200119T022818Z
LAST-MODIFIED:20200119T022932Z
UID:5861-1585224000-1585227600@gnomartinet.com
SUMMARY:Gala Committee Meeting
DESCRIPTION:The conference call number is 319-527-9156 access code 580673
URL:https://gnomartinet.com/calendar/gala-committee-meeting-12/
CATEGORIES:GNO Martinet Members
END:VEVENT
BEGIN:VEVENT
DTSTART;TZID=America/New_York:20200324T170000
DTEND;TZID=America/New_York:20200324T180000
DTSTAMP:20260423T162057
CREATED:20200119T014319Z
LAST-MODIFIED:20200119T014319Z
UID:5842-1585069200-1585072800@gnomartinet.com
SUMMARY:Membership Committee Meeting
DESCRIPTION:
URL:https://gnomartinet.com/calendar/membership-committee-meeting-5/
CATEGORIES:GNO Martinet Members
END:VEVENT
BEGIN:VEVENT
DTSTART;TZID=America/New_York:20200319T170000
DTEND;TZID=America/New_York:20200319T180000
DTSTAMP:20260423T162057
CREATED:20200119T022150Z
LAST-MODIFIED:20200119T022150Z
UID:5858-1584637200-1584640800@gnomartinet.com
SUMMARY:Political Action Committee Meeting
DESCRIPTION:Call-in information:\nToll Free number: 319-527-9156\nConference room number: 580673
URL:https://gnomartinet.com/calendar/political-action-committee-meeting-18/
CATEGORIES:GNO Martinet Members
END:VEVENT
BEGIN:VEVENT
DTSTART;TZID=America/New_York:20200317T170000
DTEND;TZID=America/New_York:20200317T180000
DTSTAMP:20260423T162057
CREATED:20200119T012853Z
LAST-MODIFIED:20200119T012853Z
UID:5833-1584464400-1584468000@gnomartinet.com
SUMMARY:Young Lawyers Committee Meeting
DESCRIPTION:Call-in information:\nJoin us by dialing: (319) 527-9156\nAccess code: 580673
URL:https://gnomartinet.com/calendar/young-lawyers-committee-meeting-23/
CATEGORIES:GNO Martinet Members
END:VEVENT
BEGIN:VEVENT
DTSTART;TZID=America/New_York:20200311T120000
DTEND;TZID=America/New_York:20200311T130000
DTSTAMP:20260423T162057
CREATED:20200119T021730Z
LAST-MODIFIED:20200119T021730Z
UID:5855-1583928000-1583931600@gnomartinet.com
SUMMARY:Community Service Committee Meeting
DESCRIPTION:Call-in information:\nToll Free number: 319-527-9156\nConference room number: 580673
URL:https://gnomartinet.com/calendar/community-service-committee-meeting-7/
CATEGORIES:GNO Martinet Members
END:VEVENT
BEGIN:VEVENT
DTSTART;TZID=America/New_York:20200310T120000
DTEND;TZID=America/New_York:20200310T130000
DTSTAMP:20260423T162057
CREATED:20200119T021116Z
LAST-MODIFIED:20200119T021116Z
UID:5851-1583841600-1583845200@gnomartinet.com
SUMMARY:General Body Meeting
DESCRIPTION:General Body Meeting  \n2nd Tuesday of the Month\, 12pm \nHancock Whitney Bank\n701 Poydras Street\, 30th Floor\nNew Orleans\, LA 70139 \nYou may also join us by dialing: (319) 527-9156\, Access code: 580673
URL:https://gnomartinet.com/calendar/general-body-meeting-13/
CATEGORIES:GNO Martinet Members
END:VEVENT
BEGIN:VEVENT
DTSTART;TZID=America/New_York:20200304T170000
DTEND;TZID=America/New_York:20200304T180000
DTSTAMP:20260423T162057
CREATED:20200119T014839Z
LAST-MODIFIED:20200119T014839Z
UID:5846-1583341200-1583344800@gnomartinet.com
SUMMARY:CLE Committee Meeting
DESCRIPTION:Join us by dialing: (319) 527-9156\nAccess code: 580673
URL:https://gnomartinet.com/calendar/cle-committee-meeting-8/
CATEGORIES:Continuing Legal Education
END:VEVENT
END:VCALENDAR