BEGIN:VCALENDAR
VERSION:2.0
PRODID:-//The Greater New Orleans Louis A. Martinet Legal Society, Inc. - ECPv6.15.20//NONSGML v1.0//EN
CALSCALE:GREGORIAN
METHOD:PUBLISH
X-ORIGINAL-URL:https://gnomartinet.com
X-WR-CALDESC:Events for The Greater New Orleans Louis A. Martinet Legal Society, Inc.
REFRESH-INTERVAL;VALUE=DURATION:PT1H
X-Robots-Tag:noindex
X-PUBLISHED-TTL:PT1H
BEGIN:VTIMEZONE
TZID:America/New_York
BEGIN:DAYLIGHT
TZOFFSETFROM:-0500
TZOFFSETTO:-0400
TZNAME:EDT
DTSTART:20200308T070000
END:DAYLIGHT
BEGIN:STANDARD
TZOFFSETFROM:-0400
TZOFFSETTO:-0500
TZNAME:EST
DTSTART:20201101T060000
END:STANDARD
BEGIN:DAYLIGHT
TZOFFSETFROM:-0500
TZOFFSETTO:-0400
TZNAME:EDT
DTSTART:20210314T070000
END:DAYLIGHT
BEGIN:STANDARD
TZOFFSETFROM:-0400
TZOFFSETTO:-0500
TZNAME:EST
DTSTART:20211107T060000
END:STANDARD
BEGIN:DAYLIGHT
TZOFFSETFROM:-0500
TZOFFSETTO:-0400
TZNAME:EDT
DTSTART:20220313T070000
END:DAYLIGHT
BEGIN:STANDARD
TZOFFSETFROM:-0400
TZOFFSETTO:-0500
TZNAME:EST
DTSTART:20221106T060000
END:STANDARD
BEGIN:DAYLIGHT
TZOFFSETFROM:-0500
TZOFFSETTO:-0400
TZNAME:EDT
DTSTART:20230312T070000
END:DAYLIGHT
BEGIN:STANDARD
TZOFFSETFROM:-0400
TZOFFSETTO:-0500
TZNAME:EST
DTSTART:20231105T060000
END:STANDARD
END:VTIMEZONE
BEGIN:VEVENT
DTSTART;TZID=America/New_York:20220924T100000
DTEND;TZID=America/New_York:20220924T150000
DTSTAMP:20260423T115931
CREATED:20220720T035214Z
LAST-MODIFIED:20220720T035214Z
UID:6394-1664013600-1664031600@gnomartinet.com
SUMMARY:2022 Annual Jazz Brunch and Scholarship Gala
DESCRIPTION:After a two year hiatus\, we are pleased to announce the return of our Annual Jazz Brunch and Scholarship Gala! Our Annual Jazz Brunch and Scholarship Gala will take place on September 24\, 2022\, from 11:00 a.m. to 1:00 p.m. Cocktail hour will begin at 10:00 a.m.. A Rooftop Social will follow the Gala at 1:00 p.m. \nThis year\, we are honoring the following award recipients: \nThe Honorable Ernestine Gray (ret.) – Lifetime Achievement Award\nThe Honorable Rachael Johnson – Ernest N. Morial Award\nAshley Heilprin Hunter – A.P. Tureaud Award\nBianca Moore – Louis A. Martinet Award\nDante Butler – Dr. Norman C. Francis Award\nPhoebe Ferguson and Keith Plessy – Earl J. Amedee Award \nWe will also honor the following President’s award recipients: \nJanell McFarland-Forges and Troy L. Bell – CLE Committee Co-Chairs\nWhitney M. Antoine\, Monette M. Davis\, and Shanice Z. Smith-Banks – Young Lawyer Committee Co-Chairs\nArisa B. Forest – Community Service Committee Co-Chair \nGala tickets may be purchased now for $75.00 until August 19\, 2022!   After August 19\, ticket prices will increase to $125.00. \nPURCHASE TICKETS HERE
URL:https://gnomartinet.com/calendar/2022-annual-jazz-brunch-and-scholarship-gala/
LOCATION:The Higgins Hotel\, 1000 Magazine Street\, New Orleans\, LA\, 70130\, United States
CATEGORIES:Scholarship Fundraisers
ATTACH;FMTTYPE=image/jpeg:https://gnomartinet.com/file/2022/07/Updated-Gala-Flyer-copy.jpg
END:VEVENT
BEGIN:VEVENT
DTSTART;TZID=America/New_York:20220924T100000
DTEND;TZID=America/New_York:20220924T130000
DTSTAMP:20260423T115931
CREATED:20220428T022142Z
LAST-MODIFIED:20220428T022142Z
UID:6358-1664013600-1664024400@gnomartinet.com
SUMMARY:Save the Date - GNO Annual Jazz Brunch & Scholarship Gala
DESCRIPTION:
URL:https://gnomartinet.com/calendar/save-the-date-gno-annual-jazz-brunch-scholarship-gala/
LOCATION:The Higgins Hotel\, 1000 Magazine Street\, New Orleans\, LA\, 70130\, United States
CATEGORIES:Scholarship Fundraisers
END:VEVENT
BEGIN:VEVENT
DTSTART;VALUE=DATE:20210918
DTEND;VALUE=DATE:20210919
DTSTAMP:20260423T115931
CREATED:20210623T022128Z
LAST-MODIFIED:20210624T031609Z
UID:6140-1631923200-1632009599@gnomartinet.com
SUMMARY:Gala 2021
DESCRIPTION:Marc H. Morial\,2021 Gala Keynote Speaker
URL:https://gnomartinet.com/calendar/gala-2021/
LOCATION:Hyatt Regency New Orleans\, 601 Loyola Avenue\, New Orleans\, LA\, 70113\, United States
CATEGORIES:Scholarship Fundraisers
END:VEVENT
END:VCALENDAR